BEGIN:VCALENDAR
VERSION:2.0
PRODID:-//Holt Parish Council, Wiltshire - ECPv6.15.18//NONSGML v1.0//EN
CALSCALE:GREGORIAN
METHOD:PUBLISH
X-WR-CALNAME:Holt Parish Council, Wiltshire
X-ORIGINAL-URL:https://holtparishcouncil.gov.uk
X-WR-CALDESC:Events for Holt Parish Council, Wiltshire
REFRESH-INTERVAL;VALUE=DURATION:PT1H
X-Robots-Tag:noindex
X-PUBLISHED-TTL:PT1H
BEGIN:VTIMEZONE
TZID:Europe/London
BEGIN:DAYLIGHT
TZOFFSETFROM:+0000
TZOFFSETTO:+0100
TZNAME:BST
DTSTART:20220327T010000
END:DAYLIGHT
BEGIN:STANDARD
TZOFFSETFROM:+0100
TZOFFSETTO:+0000
TZNAME:GMT
DTSTART:20221030T010000
END:STANDARD
BEGIN:DAYLIGHT
TZOFFSETFROM:+0000
TZOFFSETTO:+0100
TZNAME:BST
DTSTART:20230326T010000
END:DAYLIGHT
BEGIN:STANDARD
TZOFFSETFROM:+0100
TZOFFSETTO:+0000
TZNAME:GMT
DTSTART:20231029T010000
END:STANDARD
BEGIN:DAYLIGHT
TZOFFSETFROM:+0000
TZOFFSETTO:+0100
TZNAME:BST
DTSTART:20240331T010000
END:DAYLIGHT
BEGIN:STANDARD
TZOFFSETFROM:+0100
TZOFFSETTO:+0000
TZNAME:GMT
DTSTART:20241027T010000
END:STANDARD
BEGIN:DAYLIGHT
TZOFFSETFROM:+0000
TZOFFSETTO:+0100
TZNAME:BST
DTSTART:20250330T010000
END:DAYLIGHT
BEGIN:STANDARD
TZOFFSETFROM:+0100
TZOFFSETTO:+0000
TZNAME:GMT
DTSTART:20251026T010000
END:STANDARD
END:VTIMEZONE
BEGIN:VEVENT
DTSTART;TZID=Europe/London:20240417T193000
DTEND;TZID=Europe/London:20240417T193000
DTSTAMP:20260423T060735
CREATED:20241002T105156Z
LAST-MODIFIED:20241002T105156Z
UID:8204-1713382200-1713382200@holtparishcouncil.gov.uk
SUMMARY:Annual Parish Meeting
DESCRIPTION:The Annual Parish Meeting  must be held each year between March 1st and June 1st: \n\nThis is\, in legal terms\, a quite separate body from the Parish Council\, but it is invariably the Parish Council that arranges it (simply because it is unlikely that anyone else will do so). Its decisions are not binding on the council\, though a wise Parish Council will normally want to take heed of what is said at the meeting.\nIt may help to remember the difference between the two meetings as the Annual Parish Meeting is a legacy from the Middle Ages\, when local Parish Councils did not exist\, and all local decision making was carried out by meetings of the whole community\, taking place in any available large building eg the church vestry.  Note that neither the Annual Parish Council meeting nor the Annual Parish Meeting have anything to do with the parochial church council which is related to the administration of a church parish.\nThe Annual Parish Meeting is open to all electors of Holt Parish\, who have the right not only to attend but also to speak on any matter of local interest.  This is in contrast to a Parish Council meeting\, where electors who are not Councillors have no automatic right to speak (although Holt parish council does have a set time before any Parish Council meeting when electors can raise matters of concern to them).\nThis meeting has its own minutes\, which should be kept separately from the Parish Council minutes\, and these minutes can only be approved by the next Annual Parish Meeting which will\, of course\, not be held until the following year.\n\nThe Annual Parish Meeting is usually held in the Village Hall in April. Because this is a meeting of a body separate from the Parish Council (see above) the date is not affected by the Parish Council election cycle\, though practical considerations may mean that it is arranged on a different date in an election year.
URL:https://holtparishcouncil.gov.uk/event/annual-parish-meeting
LOCATION:Holt Village Hall
CATEGORIES:Parish Council Meetings
END:VEVENT
BEGIN:VEVENT
DTSTART;TZID=Europe/London:20240321T193000
DTEND;TZID=Europe/London:20240321T213000
DTSTAMP:20260423T060735
CREATED:20231107T115240Z
LAST-MODIFIED:20231107T115240Z
UID:7265-1711049400-1711056600@holtparishcouncil.gov.uk
SUMMARY:March Council Meeting
DESCRIPTION:
URL:https://holtparishcouncil.gov.uk/event/march-council-meeting
LOCATION:Holt Village Hall
END:VEVENT
BEGIN:VEVENT
DTSTART;TZID=Europe/London:20240215T193000
DTEND;TZID=Europe/London:20240215T213000
DTSTAMP:20260423T060735
CREATED:20231107T115126Z
LAST-MODIFIED:20231107T115126Z
UID:7262-1708025400-1708032600@holtparishcouncil.gov.uk
SUMMARY:February Council Meeting
DESCRIPTION:
URL:https://holtparishcouncil.gov.uk/event/february-council-meeting
LOCATION:Holt Village Hall
END:VEVENT
BEGIN:VEVENT
DTSTART;TZID=Europe/London:20240118T193000
DTEND;TZID=Europe/London:20240118T213000
DTSTAMP:20260423T060735
CREATED:20231107T114005Z
LAST-MODIFIED:20231107T114005Z
UID:7259-1705606200-1705613400@holtparishcouncil.gov.uk
SUMMARY:January Council Meeting
DESCRIPTION:
URL:https://holtparishcouncil.gov.uk/event/january-council-meeting
LOCATION:Holt Village Hall
END:VEVENT
BEGIN:VEVENT
DTSTART;TZID=Europe/London:20231214T193000
DTEND;TZID=Europe/London:20231214T213000
DTSTAMP:20260423T060735
CREATED:20231107T113830Z
LAST-MODIFIED:20231107T113830Z
UID:7256-1702582200-1702589400@holtparishcouncil.gov.uk
SUMMARY:December Council Meeting
DESCRIPTION:
URL:https://holtparishcouncil.gov.uk/event/december-council-meeting
LOCATION:Holt Village Hall
END:VEVENT
BEGIN:VEVENT
DTSTART;TZID=Europe/London:20231116T193000
DTEND;TZID=Europe/London:20231116T213000
DTSTAMP:20260423T060735
CREATED:20231107T112304Z
LAST-MODIFIED:20231107T112411Z
UID:7253-1700163000-1700170200@holtparishcouncil.gov.uk
SUMMARY:November Council Meeting
DESCRIPTION:
URL:https://holtparishcouncil.gov.uk/event/november-council-meeting
LOCATION:Holt Village Hall
END:VEVENT
END:VCALENDAR