BEGIN:VCALENDAR
VERSION:2.0
PRODID:-//Holt Parish Council, Wiltshire - ECPv6.15.18//NONSGML v1.0//EN
CALSCALE:GREGORIAN
METHOD:PUBLISH
X-WR-CALNAME:Holt Parish Council, Wiltshire
X-ORIGINAL-URL:https://holtparishcouncil.gov.uk
X-WR-CALDESC:Events for Holt Parish Council, Wiltshire
REFRESH-INTERVAL;VALUE=DURATION:PT1H
X-Robots-Tag:noindex
X-PUBLISHED-TTL:PT1H
BEGIN:VTIMEZONE
TZID:Europe/London
BEGIN:DAYLIGHT
TZOFFSETFROM:+0000
TZOFFSETTO:+0100
TZNAME:BST
DTSTART:20230326T010000
END:DAYLIGHT
BEGIN:STANDARD
TZOFFSETFROM:+0100
TZOFFSETTO:+0000
TZNAME:GMT
DTSTART:20231029T010000
END:STANDARD
BEGIN:DAYLIGHT
TZOFFSETFROM:+0000
TZOFFSETTO:+0100
TZNAME:BST
DTSTART:20240331T010000
END:DAYLIGHT
BEGIN:STANDARD
TZOFFSETFROM:+0100
TZOFFSETTO:+0000
TZNAME:GMT
DTSTART:20241027T010000
END:STANDARD
BEGIN:DAYLIGHT
TZOFFSETFROM:+0000
TZOFFSETTO:+0100
TZNAME:BST
DTSTART:20250330T010000
END:DAYLIGHT
BEGIN:STANDARD
TZOFFSETFROM:+0100
TZOFFSETTO:+0000
TZNAME:GMT
DTSTART:20251026T010000
END:STANDARD
BEGIN:DAYLIGHT
TZOFFSETFROM:+0000
TZOFFSETTO:+0100
TZNAME:BST
DTSTART:20260329T010000
END:DAYLIGHT
BEGIN:STANDARD
TZOFFSETFROM:+0100
TZOFFSETTO:+0000
TZNAME:GMT
DTSTART:20261025T010000
END:STANDARD
BEGIN:DAYLIGHT
TZOFFSETFROM:+0000
TZOFFSETTO:+0100
TZNAME:BST
DTSTART:20270328T010000
END:DAYLIGHT
BEGIN:STANDARD
TZOFFSETFROM:+0100
TZOFFSETTO:+0000
TZNAME:GMT
DTSTART:20271031T010000
END:STANDARD
END:VTIMEZONE
BEGIN:VEVENT
DTSTART;TZID=Europe/London:20260429T193000
DTEND;TZID=Europe/London:20260429T193000
DTSTAMP:20260423T072311
CREATED:20260416T113534Z
LAST-MODIFIED:20260416T113534Z
UID:10323-1777491000-1777491000@holtparishcouncil.gov.uk
SUMMARY:Annual Parish Meeting
DESCRIPTION:This meeting will be held at Holt Village Hall. Members of the public are welcome to attend; please see the agenda for more details.
URL:https://holtparishcouncil.gov.uk/event/annual-parish-meeting-3
LOCATION:Holt Village Hall
CATEGORIES:Parish Council Meetings
END:VEVENT
BEGIN:VEVENT
DTSTART;TZID=Europe/London:20260423T193000
DTEND;TZID=Europe/London:20260423T193000
DTSTAMP:20260423T072311
CREATED:20260416T113310Z
LAST-MODIFIED:20260421T083801Z
UID:10317-1776972600-1776972600@holtparishcouncil.gov.uk
SUMMARY:Ordinary Council Meeting
DESCRIPTION:This meeting will be held at Holt Village Hall. Members of the public are welcome to attend; please see the agenda for more details.
URL:https://holtparishcouncil.gov.uk/event/ordinary-council-meeting-18
LOCATION:Holt Village Hall
CATEGORIES:Parish Council Meetings
END:VEVENT
BEGIN:VEVENT
DTSTART;TZID=Europe/London:20260319T193000
DTEND;TZID=Europe/London:20260319T193000
DTSTAMP:20260423T072311
CREATED:20260210T202111Z
LAST-MODIFIED:20260317T144717Z
UID:10184-1773948600-1773948600@holtparishcouncil.gov.uk
SUMMARY:Ordinary Council Meeting
DESCRIPTION:This meeting will be held at Holt Village Hall. Members of the public are welcome to attend; please see the agenda for more details.
URL:https://holtparishcouncil.gov.uk/event/10184
LOCATION:Holt Village Hall
CATEGORIES:Parish Council Meetings
END:VEVENT
BEGIN:VEVENT
DTSTART;TZID=Europe/London:20260318T193000
DTEND;TZID=Europe/London:20260318T193000
DTSTAMP:20260423T072311
CREATED:20260313T200237Z
LAST-MODIFIED:20260313T200304Z
UID:10245-1773862200-1773862200@holtparishcouncil.gov.uk
SUMMARY:Extraordinary Council Meeting
DESCRIPTION:This meeting will be held at Holt Bowls Club. Members of the public are welcome to attend; please see the agenda for more details.
URL:https://holtparishcouncil.gov.uk/event/extraordinary-meeting-2
LOCATION:Holt Village Hall
CATEGORIES:Parish Council Meetings
END:VEVENT
BEGIN:VEVENT
DTSTART;TZID=Europe/London:20260219T193000
DTEND;TZID=Europe/London:20260219T193000
DTSTAMP:20260423T072311
CREATED:20260210T202019Z
LAST-MODIFIED:20260327T100349Z
UID:10181-1771529400-1771529400@holtparishcouncil.gov.uk
SUMMARY:Ordinary Council Meeting
DESCRIPTION:This meeting will be held at Holt Village Hall. Members of the public are welcome to attend; please see the agenda for more details.
URL:https://holtparishcouncil.gov.uk/event/10181
LOCATION:Holt Village Hall
CATEGORIES:Parish Council Meetings
END:VEVENT
BEGIN:VEVENT
DTSTART;TZID=Europe/London:20260122T193000
DTEND;TZID=Europe/London:20260122T193000
DTSTAMP:20260423T072311
CREATED:20250509T130151Z
LAST-MODIFIED:20260226T145717Z
UID:9487-1769110200-1769110200@holtparishcouncil.gov.uk
SUMMARY:Ordinary Council Meeting
DESCRIPTION:This meeting will be held at Holt Village Hall. Members of the public are welcome to attend; please see the agenda for more details.
URL:https://holtparishcouncil.gov.uk/event/ordinary-council-meeting-17
LOCATION:Holt Village Hall
CATEGORIES:Parish Council Meetings
END:VEVENT
BEGIN:VEVENT
DTSTART;TZID=Europe/London:20251218T193000
DTEND;TZID=Europe/London:20251218T193000
DTSTAMP:20260423T072311
CREATED:20250509T130111Z
LAST-MODIFIED:20260331T214743Z
UID:9484-1766086200-1766086200@holtparishcouncil.gov.uk
SUMMARY:Ordinary Council Meeting
DESCRIPTION:This meeting will be held at Holt Village Hall. Members of the public are welcome to attend; please see the agenda for more details.
URL:https://holtparishcouncil.gov.uk/event/ordinary-council-meeting-16
LOCATION:Holt Village Hall
CATEGORIES:Parish Council Meetings
END:VEVENT
BEGIN:VEVENT
DTSTART;TZID=Europe/London:20251120T193000
DTEND;TZID=Europe/London:20251120T193000
DTSTAMP:20260423T072311
CREATED:20250509T130031Z
LAST-MODIFIED:20260103T193907Z
UID:9481-1763667000-1763667000@holtparishcouncil.gov.uk
SUMMARY:Ordinary Council Meeting
DESCRIPTION:This meeting will be held at Holt Village Hall. Members of the public are welcome to attend; please see the agenda for more details.
URL:https://holtparishcouncil.gov.uk/event/ordinary-council-meeting-15
LOCATION:Holt Village Hall
CATEGORIES:Parish Council Meetings
END:VEVENT
BEGIN:VEVENT
DTSTART;TZID=Europe/London:20251016T193000
DTEND;TZID=Europe/London:20251016T193000
DTSTAMP:20260423T072311
CREATED:20250509T125916Z
LAST-MODIFIED:20251125T111500Z
UID:9477-1760643000-1760643000@holtparishcouncil.gov.uk
SUMMARY:Ordinary Council Meeting
DESCRIPTION:This meeting will be held at Holt Village Hall. Members of the public are welcome to attend; please see the agenda for more details.
URL:https://holtparishcouncil.gov.uk/event/ordinary-council-meeting-14
LOCATION:Holt Village Hall
CATEGORIES:Parish Council Meetings
END:VEVENT
BEGIN:VEVENT
DTSTART;TZID=Europe/London:20250904T193000
DTEND;TZID=Europe/London:20250904T193000
DTSTAMP:20260423T072311
CREATED:20250509T125833Z
LAST-MODIFIED:20251117T103900Z
UID:9474-1757014200-1757014200@holtparishcouncil.gov.uk
SUMMARY:Ordinary Council Meeting
DESCRIPTION:This meeting will be held at Holt Village Hall. Members of the public are welcome to attend; please see the agenda for more details.
URL:https://holtparishcouncil.gov.uk/event/ordinary-council-meeting-13
LOCATION:Holt Village Hall
CATEGORIES:Parish Council Meetings
END:VEVENT
BEGIN:VEVENT
DTSTART;TZID=Europe/London:20250717T193000
DTEND;TZID=Europe/London:20250717T193000
DTSTAMP:20260423T072311
CREATED:20250509T125734Z
LAST-MODIFIED:20250930T200502Z
UID:9471-1752780600-1752780600@holtparishcouncil.gov.uk
SUMMARY:Ordinary Council Meeting
DESCRIPTION:This meeting will be held at Holt Village Hall. Members of the public are welcome to attend; please see the agenda for more details.
URL:https://holtparishcouncil.gov.uk/event/ordinary-council-meeting-12
LOCATION:Holt Village Hall
CATEGORIES:Parish Council Meetings
END:VEVENT
BEGIN:VEVENT
DTSTART;TZID=Europe/London:20250619T193000
DTEND;TZID=Europe/London:20250619T193000
DTSTAMP:20260423T072311
CREATED:20250509T125611Z
LAST-MODIFIED:20250812T130523Z
UID:9464-1750361400-1750361400@holtparishcouncil.gov.uk
SUMMARY:Ordinary Council Meeting
DESCRIPTION:This meeting will be held at Holt Village Hall. Members of the public are welcome to attend; please see the agenda for more details.
URL:https://holtparishcouncil.gov.uk/event/ordinary-council-meeting-11
LOCATION:Holt Village Hall
CATEGORIES:Parish Council Meetings
END:VEVENT
BEGIN:VEVENT
DTSTART;VALUE=DATE:20250619
DTEND;VALUE=DATE:20250620
DTSTAMP:20260423T072311
CREATED:20250509T125253Z
LAST-MODIFIED:20250509T125253Z
UID:9456-1750291200-1750377599@holtparishcouncil.gov.uk
SUMMARY:Ordinary Council Meeting
DESCRIPTION:
URL:https://holtparishcouncil.gov.uk/event/ordinary-council-meeting-10
END:VEVENT
BEGIN:VEVENT
DTSTART;TZID=Europe/London:20250522T193000
DTEND;TZID=Europe/London:20250522T193000
DTSTAMP:20260423T072311
CREATED:20250409T151812Z
LAST-MODIFIED:20250623T133113Z
UID:9405-1747942200-1747942200@holtparishcouncil.gov.uk
SUMMARY:Annual Council Meeting
DESCRIPTION:This meeting will be held at Holt Village Hall. Members of the public are welcome to attend; please see the agenda for more details.
URL:https://holtparishcouncil.gov.uk/event/annual-council-meeting
LOCATION:Holt Village Hall
CATEGORIES:Parish Council Meetings
END:VEVENT
BEGIN:VEVENT
DTSTART;TZID=Europe/London:20250417T193000
DTEND;TZID=Europe/London:20250417T193000
DTSTAMP:20260423T072311
CREATED:20250409T151738Z
LAST-MODIFIED:20250610T201925Z
UID:9402-1744918200-1744918200@holtparishcouncil.gov.uk
SUMMARY:Ordinary Council Meeting
DESCRIPTION:This meeting will be held at Holt Village Hall. Members of the public are welcome to attend; please see the agenda for more details.
URL:https://holtparishcouncil.gov.uk/event/ordinary-council-meeting-9
LOCATION:Holt Village Hall
CATEGORIES:Parish Council Meetings
END:VEVENT
BEGIN:VEVENT
DTSTART;TZID=Europe/London:20250416T193000
DTEND;TZID=Europe/London:20250416T193000
DTSTAMP:20260423T072311
CREATED:20250409T151558Z
LAST-MODIFIED:20250409T151558Z
UID:9399-1744831800-1744831800@holtparishcouncil.gov.uk
SUMMARY:Annual Parish Meeting
DESCRIPTION:This meeting will be held at Holt Village Hall. Members of the public are welcome to attend; please see the agenda for more details.
URL:https://holtparishcouncil.gov.uk/event/annual-parish-meeting-2
LOCATION:Holt Village Hall
CATEGORIES:Parish Council Meetings
END:VEVENT
BEGIN:VEVENT
DTSTART;TZID=Europe/London:20250318T193000
DTEND;TZID=Europe/London:20250318T193000
DTSTAMP:20260423T072311
CREATED:20250316T185304Z
LAST-MODIFIED:20250423T140603Z
UID:9215-1742326200-1742326200@holtparishcouncil.gov.uk
SUMMARY:Ordinary Council Meeting
DESCRIPTION:This meeting will be held at Holt Village Hall. Members of the public are welcome to attend; please see the agenda for more details.
URL:https://holtparishcouncil.gov.uk/event/ordinary-council-meeting-8
LOCATION:Holt Village Hall
CATEGORIES:Parish Council Meetings
END:VEVENT
BEGIN:VEVENT
DTSTART;TZID=Europe/London:20250220T193000
DTEND;TZID=Europe/London:20250220T193000
DTSTAMP:20260423T072311
CREATED:20250215T114211Z
LAST-MODIFIED:20250610T203135Z
UID:9070-1740079800-1740079800@holtparishcouncil.gov.uk
SUMMARY:Ordinary Council Meeting
DESCRIPTION:This meeting will be held at Holt Village Hall. Members of the public are welcome to attend; please see the agenda for more details.
URL:https://holtparishcouncil.gov.uk/event/ordinary-council-meeting-7
LOCATION:Holt Village Hall
CATEGORIES:Parish Council Meetings
END:VEVENT
BEGIN:VEVENT
DTSTART;TZID=Europe/London:20250116T193000
DTEND;TZID=Europe/London:20250116T193000
DTSTAMP:20260423T072311
CREATED:20250110T174400Z
LAST-MODIFIED:20250305T110231Z
UID:8930-1737055800-1737055800@holtparishcouncil.gov.uk
SUMMARY:Ordinary Council Meeting
DESCRIPTION:This meeting will be held at Holt Village Hall. Members of the public are welcome to attend; please see the agenda for more details.
URL:https://holtparishcouncil.gov.uk/event/ordinary-council-meeting-6
LOCATION:Holt Village Hall
CATEGORIES:Parish Council Meetings
END:VEVENT
BEGIN:VEVENT
DTSTART;TZID=Europe/London:20241205T193000
DTEND;TZID=Europe/London:20241205T193000
DTSTAMP:20260423T072311
CREATED:20241115T130730Z
LAST-MODIFIED:20250122T114032Z
UID:8710-1733427000-1733427000@holtparishcouncil.gov.uk
SUMMARY:Ordinary Council Meeting
DESCRIPTION:This meeting will be held at Holt Village Hall. Members of the public are welcome to attend; please see the agenda for more details.
URL:https://holtparishcouncil.gov.uk/event/ordinary-council-meeting-5
LOCATION:Holt Village Hall
CATEGORIES:Parish Council Meetings
END:VEVENT
BEGIN:VEVENT
DTSTART;TZID=Europe/London:20241121T140000
DTEND;TZID=Europe/London:20241121T140000
DTSTAMP:20260423T072311
CREATED:20241115T130419Z
LAST-MODIFIED:20250122T115222Z
UID:8704-1732197600-1732197600@holtparishcouncil.gov.uk
SUMMARY:Extraordinary Meeting 2pm start
DESCRIPTION:This meeting will be held at Holt Village Hall. Members of the public are welcome to attend; please see the agenda for more details.
URL:https://holtparishcouncil.gov.uk/event/extraordinary-meeting
LOCATION:Holt Village Hall
CATEGORIES:Parish Council Meetings
END:VEVENT
BEGIN:VEVENT
DTSTART;TZID=Europe/London:20241017T193000
DTEND;TZID=Europe/London:20241017T193000
DTSTAMP:20260423T072311
CREATED:20241014T083104Z
LAST-MODIFIED:20250122T114150Z
UID:8292-1729193400-1729193400@holtparishcouncil.gov.uk
SUMMARY:Ordinary Council Meeting
DESCRIPTION:This meeting will be held at Holt Village Hall. Members of the public are welcome to attend; please see the agenda for more details.
URL:https://holtparishcouncil.gov.uk/event/ordinary-council-meeting-3
LOCATION:Holt Village Hall
CATEGORIES:Parish Council Meetings
END:VEVENT
BEGIN:VEVENT
DTSTART;TZID=Europe/London:20241017T193000
DTEND;TZID=Europe/London:20241017T193000
DTSTAMP:20260423T072311
CREATED:20241010T115138Z
LAST-MODIFIED:20250122T115252Z
UID:8261-1729193400-1729193400@holtparishcouncil.gov.uk
SUMMARY:Freedom of the Parish meeting
DESCRIPTION:This meeting will be held at Holt Village Hall. Members of the public are welcome to attend; please see the agenda for more details.
URL:https://holtparishcouncil.gov.uk/event/freedom-of-the-parish-meeting
LOCATION:Holt Village Hall
CATEGORIES:Parish Council Meetings
END:VEVENT
BEGIN:VEVENT
DTSTART;TZID=Europe/London:20241007T090000
DTEND;TZID=Europe/London:20241007T160000
DTSTAMP:20260423T072311
CREATED:20241004T171500Z
LAST-MODIFIED:20241004T171500Z
UID:8208-1728291600-1728316800@holtparishcouncil.gov.uk
SUMMARY:Temporary Closure of: B3109 (Part)\, Bradford on Avon\, South Wraxall and Box
DESCRIPTION:Section 14(1) of the Road Traffic Regulation Act 1984\nTemporary Closure of: B3109 (Part)\, Bradford on Avon\, South Wraxall and Box (Ref:\nTTRO 9771)\nNotice is hereby given that the Wiltshire Council has made an Order to close temporarily to\nall traffic:\nB3109 (Part)\, Bradford on Avon\, South Wraxall and Box; from its junction with B3105 to\nits junction with A365.\nTo enable: Wiltshire Council to carry out drainage and associated works.\nAlternative route: via A365 – B3107 – B3105 and vice versa.\nThe closure and diversion route will be clearly indicated by traffic signs.\nThis Order will come into operation on 07 October 2024 and the closure will be required\nbetween the hours of 09:00 and 16:00 for 1 day. It is anticipated that the works will take the\nstated duration to complete depending upon weather conditions. Access will be maintained\nfor residents and businesses where possible\, although delays are likely due to the nature of\nthe works.
URL:https://holtparishcouncil.gov.uk/event/temporary-closure-of-b3109-part-bradford-on-avon-south-wraxall-and-box
LOCATION:B3109
END:VEVENT
BEGIN:VEVENT
DTSTART;TZID=Europe/London:20240919T193000
DTEND;TZID=Europe/London:20240919T193000
DTSTAMP:20260423T072311
CREATED:20241115T130639Z
LAST-MODIFIED:20241115T130639Z
UID:8707-1726774200-1726774200@holtparishcouncil.gov.uk
SUMMARY:Ordinary Council Meeting
DESCRIPTION:This meeting will be held at Holt Village Hall. Members of the public are welcome to attend; please see the agenda for more details.
URL:https://holtparishcouncil.gov.uk/event/ordinary-council-meeting-4
LOCATION:Holt Village Hall
CATEGORIES:Parish Council Meetings
END:VEVENT
BEGIN:VEVENT
DTSTART;TZID=Europe/London:20240718T193000
DTEND;TZID=Europe/London:20240718T193000
DTSTAMP:20260423T072311
CREATED:20240716T215020Z
LAST-MODIFIED:20241002T104745Z
UID:8011-1721331000-1721331000@holtparishcouncil.gov.uk
SUMMARY:Ordinary Council Meeting
DESCRIPTION:This meeting will be held at Holt Village Hall. Members of the public are welcome to attend; please see the agenda for more details.
URL:https://holtparishcouncil.gov.uk/event/ordinary-council-meeting
LOCATION:Holt Village Hall
CATEGORIES:Parish Council Meetings
END:VEVENT
BEGIN:VEVENT
DTSTART;TZID=Europe/London:20240620T193000
DTEND;TZID=Europe/London:20240620T193000
DTSTAMP:20260423T072311
CREATED:20240913T122053Z
LAST-MODIFIED:20240913T122053Z
UID:8150-1718911800-1718911800@holtparishcouncil.gov.uk
SUMMARY:Ordinary Council Meeting
DESCRIPTION:This meeting will be held at Holt Village Hall. Members of the public are welcome to attend; please see the agenda for more details.
URL:https://holtparishcouncil.gov.uk/event/ordinary-council-meeting-2
LOCATION:Holt Village Hall
CATEGORIES:Parish Council Meetings
END:VEVENT
BEGIN:VEVENT
DTSTART;TZID=Europe/London:20240418T193000
DTEND;TZID=Europe/London:20240418T213000
DTSTAMP:20260423T072311
CREATED:20231107T115642Z
LAST-MODIFIED:20231107T115709Z
UID:7268-1713468600-1713475800@holtparishcouncil.gov.uk
SUMMARY:April Annual and Ordinary Council meeting
DESCRIPTION:
URL:https://holtparishcouncil.gov.uk/event/april-annual-and-ordinary-council-meeting
LOCATION:Holt Village Hall
END:VEVENT
BEGIN:VEVENT
DTSTART;TZID=Europe/London:20240417T193000
DTEND;TZID=Europe/London:20240417T193000
DTSTAMP:20260423T072311
CREATED:20241002T105156Z
LAST-MODIFIED:20241002T105156Z
UID:8204-1713382200-1713382200@holtparishcouncil.gov.uk
SUMMARY:Annual Parish Meeting
DESCRIPTION:The Annual Parish Meeting  must be held each year between March 1st and June 1st: \n\nThis is\, in legal terms\, a quite separate body from the Parish Council\, but it is invariably the Parish Council that arranges it (simply because it is unlikely that anyone else will do so). Its decisions are not binding on the council\, though a wise Parish Council will normally want to take heed of what is said at the meeting.\nIt may help to remember the difference between the two meetings as the Annual Parish Meeting is a legacy from the Middle Ages\, when local Parish Councils did not exist\, and all local decision making was carried out by meetings of the whole community\, taking place in any available large building eg the church vestry.  Note that neither the Annual Parish Council meeting nor the Annual Parish Meeting have anything to do with the parochial church council which is related to the administration of a church parish.\nThe Annual Parish Meeting is open to all electors of Holt Parish\, who have the right not only to attend but also to speak on any matter of local interest.  This is in contrast to a Parish Council meeting\, where electors who are not Councillors have no automatic right to speak (although Holt parish council does have a set time before any Parish Council meeting when electors can raise matters of concern to them).\nThis meeting has its own minutes\, which should be kept separately from the Parish Council minutes\, and these minutes can only be approved by the next Annual Parish Meeting which will\, of course\, not be held until the following year.\n\nThe Annual Parish Meeting is usually held in the Village Hall in April. Because this is a meeting of a body separate from the Parish Council (see above) the date is not affected by the Parish Council election cycle\, though practical considerations may mean that it is arranged on a different date in an election year.
URL:https://holtparishcouncil.gov.uk/event/annual-parish-meeting
LOCATION:Holt Village Hall
CATEGORIES:Parish Council Meetings
END:VEVENT
BEGIN:VEVENT
DTSTART;TZID=Europe/London:20240321T193000
DTEND;TZID=Europe/London:20240321T213000
DTSTAMP:20260423T072311
CREATED:20231107T115240Z
LAST-MODIFIED:20231107T115240Z
UID:7265-1711049400-1711056600@holtparishcouncil.gov.uk
SUMMARY:March Council Meeting
DESCRIPTION:
URL:https://holtparishcouncil.gov.uk/event/march-council-meeting
LOCATION:Holt Village Hall
END:VEVENT
END:VCALENDAR